BEGIN:VCALENDAR
VERSION:2.0
PRODID:-//West Pecan Coffee + Beer - ECPv6.15.20//NONSGML v1.0//EN
CALSCALE:GREGORIAN
METHOD:PUBLISH
X-WR-CALNAME:West Pecan Coffee + Beer
X-ORIGINAL-URL:https://westpecancoffee.com
X-WR-CALDESC:Events for West Pecan Coffee + Beer
REFRESH-INTERVAL;VALUE=DURATION:PT1H
X-Robots-Tag:noindex
X-PUBLISHED-TTL:PT1H
BEGIN:VTIMEZONE
TZID:UTC
BEGIN:STANDARD
TZOFFSETFROM:+0000
TZOFFSETTO:+0000
TZNAME:UTC
DTSTART:20220101T000000
END:STANDARD
END:VTIMEZONE
BEGIN:VEVENT
DTSTART;TZID=UTC:20230204T100000
DTEND;TZID=UTC:20230204T150000
DTSTAMP:20260425T200755
CREATED:20230130T024814Z
LAST-MODIFIED:20230130T024814Z
UID:2858-1675504800-1675522800@westpecancoffee.com
SUMMARY:February Pecan Street Collective
DESCRIPTION:Local maker’s market hosted in downtown Pflugerville!
URL:https://westpecancoffee.com/event/february-pecan-street-collective/
LOCATION:Pecan Street\, Pflugerville\, Texas\, Pecan Street\, Pflugerville\, Texas\, 78660
CATEGORIES:Pecan Street Collective
ATTACH;FMTTYPE=image/jpeg:https://westpecancoffee.com/wp-content/uploads/2023/01/PSC-Feb-2023.jpeg
ORGANIZER;CN="Pecan Street Collective":MAILTO:collective@westpecancoffee.com
END:VEVENT
END:VCALENDAR