BEGIN:VCALENDAR
VERSION:2.0
PRODID:-//West Pecan Coffee + Beer - ECPv6.15.20//NONSGML v1.0//EN
CALSCALE:GREGORIAN
METHOD:PUBLISH
X-WR-CALNAME:West Pecan Coffee + Beer
X-ORIGINAL-URL:https://westpecancoffee.com
X-WR-CALDESC:Events for West Pecan Coffee + Beer
REFRESH-INTERVAL;VALUE=DURATION:PT1H
X-Robots-Tag:noindex
X-PUBLISHED-TTL:PT1H
BEGIN:VTIMEZONE
TZID:UTC
BEGIN:STANDARD
TZOFFSETFROM:+0000
TZOFFSETTO:+0000
TZNAME:UTC
DTSTART:20250101T000000
END:STANDARD
END:VTIMEZONE
BEGIN:VEVENT
DTSTART;TZID=UTC:20260606T090000
DTEND;TZID=UTC:20260606T140000
DTSTAMP:20260423T213237
CREATED:20251024T171607Z
LAST-MODIFIED:20251024T173849Z
UID:3217-1780736400-1780754400@westpecancoffee.com
SUMMARY:June 6th Pecan Street Collective
DESCRIPTION:Come shop the Pecan Street Collective on June 6th! The market is held from 9:00 a.m. – 2:00 p.m. and features over 60 local makers backed by live music. Hosting sites in downtown Pflugerville include West Pecan Coffee + Beer\, Hassell Dental\, The Merc\, Ceramics n More\, Pecan Street Market\, and The Sewing Station.
URL:https://westpecancoffee.com/event/june-6th-pecan-street-collective/
LOCATION:Pecan Street\, Pflugerville\, Texas\, Pecan Street\, Pflugerville\, Texas\, 78660
CATEGORIES:Pecan Street Collective
ATTACH;FMTTYPE=image/webp:https://westpecancoffee.com/wp-content/uploads/2025/10/8b42a751-67ba-4141-bbfa-70e6e6cf7b10.webp
ORGANIZER;CN="Pecan Street Collective":MAILTO:collective@westpecancoffee.com
END:VEVENT
BEGIN:VEVENT
DTSTART;TZID=UTC:20260801T090000
DTEND;TZID=UTC:20260801T140000
DTSTAMP:20260423T213237
CREATED:20251024T173443Z
LAST-MODIFIED:20251024T173824Z
UID:3220-1785574800-1785592800@westpecancoffee.com
SUMMARY:August 1st Pecan Street Collective
DESCRIPTION:Come shop the Pecan Street Collective on August 1st! The market is held from 9:00 a.m. – 2:00 p.m. and features over 60 local makers backed by live music. Hosting sites in downtown Pflugerville include West Pecan Coffee + Beer\, Hassell Dental\, The Merc\, Ceramics n More\, Pecan Street Market\, and The Sewing Station.
URL:https://westpecancoffee.com/event/august-1st-pecan-street-collective/
LOCATION:Pecan Street\, Pflugerville\, Texas\, Pecan Street\, Pflugerville\, Texas\, 78660
CATEGORIES:Pecan Street Collective
ATTACH;FMTTYPE=image/webp:https://westpecancoffee.com/wp-content/uploads/2025/10/d5083844-6741-40bd-94ab-844cfbbe8f09.webp
ORGANIZER;CN="Pecan Street Collective":MAILTO:collective@westpecancoffee.com
END:VEVENT
BEGIN:VEVENT
DTSTART;TZID=UTC:20260905T090000
DTEND;TZID=UTC:20260905T140000
DTSTAMP:20260423T213237
CREATED:20251024T173650Z
LAST-MODIFIED:20251024T173926Z
UID:3223-1788598800-1788616800@westpecancoffee.com
SUMMARY:September 5th Pecan Street Collective
DESCRIPTION:Come shop the Pecan Street Collective on September 5th! The market is held from 9:00 a.m. – 2:00 p.m. and features over 60 local makers backed by live music. Hosting sites in downtown Pflugerville include West Pecan Coffee + Beer\, Hassell Dental\, The Merc\, Ceramics n More\, Pecan Street Market\, and The Sewing Station.
URL:https://westpecancoffee.com/event/september-5th-pecan-street-collective/
LOCATION:Pecan Street\, Pflugerville\, Texas\, Pecan Street\, Pflugerville\, Texas\, 78660
CATEGORIES:Pecan Street Collective
ATTACH;FMTTYPE=image/webp:https://westpecancoffee.com/wp-content/uploads/2025/10/01b87430-ad2c-4f0e-a652-f0b478c45b49.webp
ORGANIZER;CN="Pecan Street Collective":MAILTO:collective@westpecancoffee.com
END:VEVENT
BEGIN:VEVENT
DTSTART;TZID=UTC:20261003T090000
DTEND;TZID=UTC:20261003T140000
DTSTAMP:20260423T213237
CREATED:20251024T174344Z
LAST-MODIFIED:20251024T174344Z
UID:3227-1791018000-1791036000@westpecancoffee.com
SUMMARY:October 3rd Pecan Street Collective
DESCRIPTION:Come shop the Pecan Street Collective on March 7th! The market is held from 9:00 a.m. – 2:00 p.m. and features over 60 local makers backed by live music. Hosting sites in downtown Pflugerville include West Pecan Coffee + Beer\, Hassell Dental\, The Merc\, Ceramics n More\, Pecan Street Market\, and The Sewing Station.
URL:https://westpecancoffee.com/event/october-3rd-pecan-street-collective/
LOCATION:Pecan Street\, Pflugerville\, Texas\, Pecan Street\, Pflugerville\, Texas\, 78660
CATEGORIES:Pecan Street Collective
ATTACH;FMTTYPE=image/webp:https://westpecancoffee.com/wp-content/uploads/2025/10/572ea363-bcc0-4614-a356-2d4e08b4eeab.webp
ORGANIZER;CN="Pecan Street Collective":MAILTO:collective@westpecancoffee.com
END:VEVENT
BEGIN:VEVENT
DTSTART;TZID=UTC:20261107T090000
DTEND;TZID=UTC:20261107T140000
DTSTAMP:20260423T213237
CREATED:20251024T174653Z
LAST-MODIFIED:20251024T174653Z
UID:3230-1794042000-1794060000@westpecancoffee.com
SUMMARY:November 7th Pecan Street Collective
DESCRIPTION:Come shop the Pecan Street Collective on November 7th! The market is held from 9:00 a.m. – 2:00 p.m. and features over 60 local makers backed by live music. Hosting sites in downtown Pflugerville include West Pecan Coffee + Beer\, Hassell Dental\, The Merc\, Ceramics n More\, Pecan Street Market\, and The Sewing Station.
URL:https://westpecancoffee.com/event/november-7th-pecan-street-collective/
LOCATION:Pecan Street\, Pflugerville\, Texas\, Pecan Street\, Pflugerville\, Texas\, 78660
CATEGORIES:Pecan Street Collective
ATTACH;FMTTYPE=image/webp:https://westpecancoffee.com/wp-content/uploads/2025/10/bd500d04-5f54-4f0e-a61f-f52ab769b085.webp
ORGANIZER;CN="Pecan Street Collective":MAILTO:collective@westpecancoffee.com
END:VEVENT
BEGIN:VEVENT
DTSTART;TZID=UTC:20261128T090000
DTEND;TZID=UTC:20261128T140000
DTSTAMP:20260423T213237
CREATED:20251024T174856Z
LAST-MODIFIED:20251024T174856Z
UID:3233-1795856400-1795874400@westpecancoffee.com
SUMMARY:November 28th Pecan Street Collective
DESCRIPTION:Come shop the Pecan Street Collective on November 28th! The market is held from 9:00 a.m. – 2:00 p.m. and features over 60 local makers backed by live music. Hosting sites in downtown Pflugerville include West Pecan Coffee + Beer\, Hassell Dental\, The Merc\, Ceramics n More\, Pecan Street Market\, and The Sewing Station.
URL:https://westpecancoffee.com/event/november-28th-pecan-street-collective/
LOCATION:Pecan Street\, Pflugerville\, Texas\, Pecan Street\, Pflugerville\, Texas\, 78660
CATEGORIES:Pecan Street Collective
ATTACH;FMTTYPE=image/webp:https://westpecancoffee.com/wp-content/uploads/2025/10/51c3652b-4723-41e3-8513-c947447371d1.webp
ORGANIZER;CN="Pecan Street Collective":MAILTO:collective@westpecancoffee.com
END:VEVENT
END:VCALENDAR