BEGIN:VCALENDAR
VERSION:2.0
PRODID:-//West Pecan Coffee + Beer - ECPv6.15.20//NONSGML v1.0//EN
CALSCALE:GREGORIAN
METHOD:PUBLISH
X-ORIGINAL-URL:https://westpecancoffee.com
X-WR-CALDESC:Events for West Pecan Coffee + Beer
REFRESH-INTERVAL;VALUE=DURATION:PT1H
X-Robots-Tag:noindex
X-PUBLISHED-TTL:PT1H
BEGIN:VTIMEZONE
TZID:UTC
BEGIN:STANDARD
TZOFFSETFROM:+0000
TZOFFSETTO:+0000
TZNAME:UTC
DTSTART:20220101T000000
END:STANDARD
END:VTIMEZONE
BEGIN:VEVENT
DTSTART;TZID=UTC:20250315T133000
DTEND;TZID=UTC:20250315T153000
DTSTAMP:20260423T183019
CREATED:20250201T004844Z
LAST-MODIFIED:20250201T004844Z
UID:3129-1742045400-1742052600@westpecancoffee.com
SUMMARY:FREE Open Mic/Poetry Reading
DESCRIPTION:Join Jim Parker\, local teacher\, and the rest of the community of Pflugerville as we host an open mic poetry reading\, free of charge! Whether you want to present your own work\, support a friend\, or just get a glimpse of a possibly new style of writing and art\, we encourage you to join us! There is no admission or cover charge. Expect a full house and bring your friends!
URL:https://westpecancoffee.com/event/free-open-mic-poetry-reading-6/
LOCATION:West Pecan Coffee and Beer\, 100 W. Pecan Street\, Pflugerville\, TX\, 78660\, United States
CATEGORIES:Open Mic Poetry Reading
ATTACH;FMTTYPE=image/png:https://westpecancoffee.com/wp-content/uploads/2023/06/Poetry.png
END:VEVENT
BEGIN:VEVENT
DTSTART;TZID=UTC:20250301T100000
DTEND;TZID=UTC:20250301T150000
DTSTAMP:20260423T183019
CREATED:20250201T003849Z
LAST-MODIFIED:20250201T003849Z
UID:3113-1740823200-1740841200@westpecancoffee.com
SUMMARY:March 1st Pecan Street Collective
DESCRIPTION:Come shop the Pecan Street Collective on March 1st! The market is held the first Saturday of each month from 10:00 A.M. – 3:00 P.M. and features over 30 local makers backed by live music. We’ve also doubled our vendor booths to include host site The Merc along with West Pecan\, Ruffles and Rust\, Ceramics N More\, Pecan St. Market\, and Three Legged Goat. See you there!
URL:https://westpecancoffee.com/event/march-1st-pecan-street-collective/
LOCATION:Pecan Street\, Pflugerville\, Texas\, Pecan Street\, Pflugerville\, Texas\, 78660
CATEGORIES:Pecan Street Collective
ATTACH;FMTTYPE=image/jpeg:https://westpecancoffee.com/wp-content/uploads/2025/02/WhatsApp-Image-2025-01-10-at-12.50.34-PM.jpeg
ORGANIZER;CN="Pecan Street Collective":MAILTO:collective@westpecancoffee.com
END:VEVENT
BEGIN:VEVENT
DTSTART;TZID=UTC:20250215T133000
DTEND;TZID=UTC:20250215T153000
DTSTAMP:20260423T183019
CREATED:20250201T004736Z
LAST-MODIFIED:20250201T004736Z
UID:3127-1739626200-1739633400@westpecancoffee.com
SUMMARY:FREE Open Mic/Poetry Reading
DESCRIPTION:Join Jim Parker\, local teacher\, and the rest of the community of Pflugerville as we host an open mic poetry reading\, free of charge! Whether you want to present your own work\, support a friend\, or just get a glimpse of a possibly new style of writing and art\, we encourage you to join us! There is no admission or cover charge. Expect a full house and bring your friends!
URL:https://westpecancoffee.com/event/free-open-mic-poetry-reading-5/
LOCATION:West Pecan Coffee and Beer\, 100 W. Pecan Street\, Pflugerville\, TX\, 78660\, United States
CATEGORIES:Open Mic Poetry Reading
ATTACH;FMTTYPE=image/png:https://westpecancoffee.com/wp-content/uploads/2023/06/Poetry.png
END:VEVENT
BEGIN:VEVENT
DTSTART;TZID=UTC:20250201T100000
DTEND;TZID=UTC:20250201T150000
DTSTAMP:20260423T183019
CREATED:20250201T003450Z
LAST-MODIFIED:20250201T003450Z
UID:3109-1738404000-1738422000@westpecancoffee.com
SUMMARY:February 1st Pecan Street Collective
DESCRIPTION:Come shop the Pecan Street Collective on February 1st! The market is held the first Saturday of each month from 10:00 A.M. – 3:00 P.M. and features over 30 local makers backed by live music. We’ve also doubled our vendor booths to include host site The Merc along with West Pecan\, Ruffles and Rust\, Ceramics N More\, Pecan St. Market\, and Three Legged Goat. See you there!
URL:https://westpecancoffee.com/event/february-1st-pecan-street-collective/
LOCATION:Pecan Street\, Pflugerville\, Texas\, Pecan Street\, Pflugerville\, Texas\, 78660
CATEGORIES:Pecan Street Collective
ATTACH;FMTTYPE=image/jpeg:https://westpecancoffee.com/wp-content/uploads/2025/02/WhatsApp-Image-2025-01-10-at-12.50.32-PM.jpeg
ORGANIZER;CN="Pecan Street Collective":MAILTO:collective@westpecancoffee.com
END:VEVENT
BEGIN:VEVENT
DTSTART;TZID=UTC:20241221T133000
DTEND;TZID=UTC:20241221T153000
DTSTAMP:20260423T183019
CREATED:20240913T170910Z
LAST-MODIFIED:20240913T170910Z
UID:3076-1734787800-1734795000@westpecancoffee.com
SUMMARY:FREE Open Mic/Poetry Reading
DESCRIPTION:Join Jim Parker\, local teacher\, and the rest of the community of Pflugerville as we host an open mic poetry reading\, free of charge! Whether you want to present your own work\, support a friend\, or just get a glimpse of a possibly new style of writing and art\, we encourage you to join us! There is no admission or cover charge. Expect a full house and bring your friends!
URL:https://westpecancoffee.com/event/free-open-mic-poetry-reading-4/
LOCATION:West Pecan Coffee and Beer\, 100 W. Pecan Street\, Pflugerville\, TX\, 78660\, United States
CATEGORIES:Open Mic Poetry Reading
ATTACH;FMTTYPE=image/png:https://westpecancoffee.com/wp-content/uploads/2023/06/Poetry.png
END:VEVENT
BEGIN:VEVENT
DTSTART;TZID=UTC:20241130T100000
DTEND;TZID=UTC:20241130T150000
DTSTAMP:20260423T183019
CREATED:20240913T170021Z
LAST-MODIFIED:20240913T170021Z
UID:3067-1732960800-1732978800@westpecancoffee.com
SUMMARY:November 30th Pecan Street Collective
DESCRIPTION:Come shop the Pecan Street Collective on November 30th! The market is held the first Saturday of each month from 10:00 A.M. – 3:00 P.M. and features over 30 local makers backed by live music. We’ve also doubled our vendor booths to include host site The Merc along with West Pecan\, Ruffles and Rust\, Ceramics N More\, Pecan St. Market\, and Three Legged Goat. See you there!
URL:https://westpecancoffee.com/event/november-30th-pecan-street-collective/
LOCATION:Pecan Street\, Pflugerville\, Texas\, Pecan Street\, Pflugerville\, Texas\, 78660
CATEGORIES:Pecan Street Collective
ATTACH;FMTTYPE=image/jpeg:https://westpecancoffee.com/wp-content/uploads/2024/09/WhatsApp-Image-2024-08-27-at-12.26.48-PM.jpeg
ORGANIZER;CN="Pecan Street Collective":MAILTO:collective@westpecancoffee.com
END:VEVENT
BEGIN:VEVENT
DTSTART;TZID=UTC:20241116T133000
DTEND;TZID=UTC:20241116T153000
DTSTAMP:20260423T183019
CREATED:20240913T170748Z
LAST-MODIFIED:20240913T170748Z
UID:3074-1731763800-1731771000@westpecancoffee.com
SUMMARY:FREE Open Mic/Poetry Reading
DESCRIPTION:Join Jim Parker\, local teacher\, and the rest of the community of Pflugerville as we host an open mic poetry reading\, free of charge! Whether you want to present your own work\, support a friend\, or just get a glimpse of a possibly new style of writing and art\, we encourage you to join us! There is no admission or cover charge. Expect a full house and bring your friends!
URL:https://westpecancoffee.com/event/free-open-mic-poetry-reading-3/
LOCATION:West Pecan Coffee and Beer\, 100 W. Pecan Street\, Pflugerville\, TX\, 78660\, United States
CATEGORIES:Open Mic Poetry Reading
ATTACH;FMTTYPE=image/png:https://westpecancoffee.com/wp-content/uploads/2023/06/Poetry.png
END:VEVENT
BEGIN:VEVENT
DTSTART;TZID=UTC:20241102T100000
DTEND;TZID=UTC:20241102T150000
DTSTAMP:20260423T183019
CREATED:20240913T165444Z
LAST-MODIFIED:20240913T165444Z
UID:3064-1730541600-1730559600@westpecancoffee.com
SUMMARY:November 2nd Pecan Street Collective
DESCRIPTION:Come shop the Pecan Street Collective on November 2nd! The market is held the first Saturday of each month from 10:00 A.M. – 3:00 P.M. and features over 30 local makers backed by live music. We’ve also doubled our vendor booths to include host site The Merc along with West Pecan\, Ruffles and Rust\, Ceramics N More\, Pecan St. Market\, and Three Legged Goat. See you there!
URL:https://westpecancoffee.com/event/november-2nd-pecan-street-collective/
LOCATION:West Pecan Coffee and Beer\, 100 W. Pecan Street\, Pflugerville\, TX\, 78660\, United States
CATEGORIES:Pecan Street Collective
ATTACH;FMTTYPE=image/jpeg:https://westpecancoffee.com/wp-content/uploads/2024/09/WhatsApp-Image-2024-08-27-at-12.26.49-PM.jpeg
ORGANIZER;CN="Pecan Street Collective":MAILTO:collective@westpecancoffee.com
END:VEVENT
BEGIN:VEVENT
DTSTART;TZID=UTC:20241019T133000
DTEND;TZID=UTC:20241019T153000
DTSTAMP:20260423T183019
CREATED:20240913T170622Z
LAST-MODIFIED:20240913T170622Z
UID:3072-1729344600-1729351800@westpecancoffee.com
SUMMARY:FREE Open Mic/Poetry Reading
DESCRIPTION:Join Jim Parker\, local teacher\, and the rest of the community of Pflugerville as we host an open mic poetry reading\, free of charge! Whether you want to present your own work\, support a friend\, or just get a glimpse of a possibly new style of writing and art\, we encourage you to join us! There is no admission or cover charge. Expect a full house and bring your friends!
URL:https://westpecancoffee.com/event/free-open-mic-poetry-reading-2/
LOCATION:West Pecan Coffee and Beer\, 100 W. Pecan Street\, Pflugerville\, TX\, 78660\, United States
CATEGORIES:Open Mic Poetry Reading
ATTACH;FMTTYPE=image/png:https://westpecancoffee.com/wp-content/uploads/2023/06/Poetry.png
END:VEVENT
BEGIN:VEVENT
DTSTART;TZID=UTC:20241005T100000
DTEND;TZID=UTC:20241005T150000
DTSTAMP:20260423T183019
CREATED:20240827T192946Z
LAST-MODIFIED:20240913T165045Z
UID:3052-1728122400-1728140400@westpecancoffee.com
SUMMARY:October 5th Pecan Street Collective
DESCRIPTION:Come shop the Pecan Street Collective on October 5th! The market is held the first Saturday of each month from 10:00 A.M. – 3:00 P.M. and features over 30 local makers backed by live music. We’ve also doubled our vendor booths to include host site The Merc along with West Pecan\, Ruffles and Rust\, Ceramics N More\, Pecan St. Market\, and Three Legged Goat. See you there!
URL:https://westpecancoffee.com/event/october-5th-pecan-street-collective/
LOCATION:West Pecan Coffee and Beer\, 100 W. Pecan Street\, Pflugerville\, TX\, 78660\, United States
ATTACH;FMTTYPE=image/jpeg:https://westpecancoffee.com/wp-content/uploads/2024/08/2e1971df-a0ad-42fd-98b8-411375e6be71.jpg
ORGANIZER;CN="Pecan Street Collective":MAILTO:collective@westpecancoffee.com
END:VEVENT
BEGIN:VEVENT
DTSTART;TZID=UTC:20240921T133000
DTEND;TZID=UTC:20240921T153000
DTSTAMP:20260423T183019
CREATED:20240913T170433Z
LAST-MODIFIED:20240913T170433Z
UID:3070-1726925400-1726932600@westpecancoffee.com
SUMMARY:FREE Open Mic/Poetry Reading
DESCRIPTION:Join Jim Parker\, local teacher\, and the rest of the community of Pflugerville as we host an open mic poetry reading\, free of charge! Whether you want to present your own work\, support a friend\, or just get a glimpse of a possibly new style of writing and art\, we encourage you to join us! There is no admission or cover charge. Expect a full house and bring your friends!
URL:https://westpecancoffee.com/event/free-open-mic-poetry-reading/
LOCATION:West Pecan Coffee and Beer\, 100 W. Pecan Street\, Pflugerville\, TX\, 78660\, United States
CATEGORIES:Open Mic Poetry Reading
ATTACH;FMTTYPE=image/png:https://westpecancoffee.com/wp-content/uploads/2023/06/Poetry.png
END:VEVENT
BEGIN:VEVENT
DTSTART;TZID=UTC:20240914T080000
DTEND;TZID=UTC:20240914T090000
DTSTAMP:20260423T183019
CREATED:20240627T164736Z
LAST-MODIFIED:20240627T164736Z
UID:3031-1726300800-1726304400@westpecancoffee.com
SUMMARY:Sunrise Yoga at West Pecan
DESCRIPTION:Join us for a FREE 1 hour beginner- friendly yoga class!
URL:https://westpecancoffee.com/event/sunrise-yoga-at-west-pecan-4/
LOCATION:West Pecan Coffee and Beer\, 100 W. Pecan Street\, Pflugerville\, TX\, 78660\, United States
ATTACH;FMTTYPE=image/jpeg:https://westpecancoffee.com/wp-content/uploads/2024/05/image0-3.jpeg
END:VEVENT
BEGIN:VEVENT
DTSTART;TZID=UTC:20240907T100000
DTEND;TZID=UTC:20240907T150000
DTSTAMP:20260423T183019
CREATED:20240827T192809Z
LAST-MODIFIED:20240827T193012Z
UID:3049-1725703200-1725721200@westpecancoffee.com
SUMMARY:September 7th Pecan Street Collective
DESCRIPTION:Come shop the Pecan Street Collective on June 1st! The market is held the first Saturday of each month from 10:00 A.M. – 3:00 P.M. and features over 30 local makers backed by live music. We’ve also doubled our vendor booths to include host site The Merc along with West Pecan\, Ruffles and Rust\, Ceramics N More\, Pecan St. Market\, and Three Legged Goat. See you there!
URL:https://westpecancoffee.com/event/september-7th-pecan-street-collective/
LOCATION:West Pecan Coffee and Beer\, 100 W. Pecan Street\, Pflugerville\, TX\, 78660\, United States
ATTACH;FMTTYPE=image/jpeg:https://westpecancoffee.com/wp-content/uploads/2024/08/c1216fc9-1092-4f24-ac4c-6a21dac09d49.jpg
ORGANIZER;CN="Pecan Street Collective":MAILTO:collective@westpecancoffee.com
END:VEVENT
BEGIN:VEVENT
DTSTART;TZID=UTC:20240810T080000
DTEND;TZID=UTC:20240810T090000
DTSTAMP:20260423T183019
CREATED:20240627T164625Z
LAST-MODIFIED:20240627T164625Z
UID:3029-1723276800-1723280400@westpecancoffee.com
SUMMARY:Sunrise Yoga at West Pecan
DESCRIPTION:Join us for a FREE 1 hour beginner- friendly yoga class!
URL:https://westpecancoffee.com/event/sunrise-yoga-at-west-pecan-3/
LOCATION:West Pecan Coffee and Beer\, 100 W. Pecan Street\, Pflugerville\, TX\, 78660\, United States
ATTACH;FMTTYPE=image/jpeg:https://westpecancoffee.com/wp-content/uploads/2024/05/image0-3.jpeg
END:VEVENT
BEGIN:VEVENT
DTSTART;TZID=UTC:20240713T080000
DTEND;TZID=UTC:20240713T090000
DTSTAMP:20260423T183019
CREATED:20240627T164530Z
LAST-MODIFIED:20240627T164530Z
UID:3027-1720857600-1720861200@westpecancoffee.com
SUMMARY:Sunrise Yoga at West Pecan
DESCRIPTION:Join us for a FREE 1 hour beginner- friendly yoga class!
URL:https://westpecancoffee.com/event/sunrise-yoga-at-west-pecan-2/
LOCATION:West Pecan Coffee and Beer\, 100 W. Pecan Street\, Pflugerville\, TX\, 78660\, United States
ATTACH;FMTTYPE=image/jpeg:https://westpecancoffee.com/wp-content/uploads/2024/05/image0-3.jpeg
END:VEVENT
BEGIN:VEVENT
DTSTART;TZID=UTC:20240608T080000
DTEND;TZID=UTC:20240608T090000
DTSTAMP:20260423T183019
CREATED:20240528T200219Z
LAST-MODIFIED:20240528T200219Z
UID:3022-1717833600-1717837200@westpecancoffee.com
SUMMARY:Sunrise Yoga at West Pecan
DESCRIPTION:Join us for a FREE 1 hour beginner- friendly yoga class!
URL:https://westpecancoffee.com/event/sunrise-yoga-at-west-pecan/
LOCATION:West Pecan Coffee and Beer\, 100 W. Pecan Street\, Pflugerville\, TX\, 78660\, United States
ATTACH;FMTTYPE=image/jpeg:https://westpecancoffee.com/wp-content/uploads/2024/05/image0-3.jpeg
END:VEVENT
BEGIN:VEVENT
DTSTART;TZID=UTC:20240601T100000
DTEND;TZID=UTC:20240601T150000
DTSTAMP:20260423T183019
CREATED:20240205T015247Z
LAST-MODIFIED:20240205T015247Z
UID:2997-1717236000-1717254000@westpecancoffee.com
SUMMARY:June 1st Pecan Street Collective
DESCRIPTION:Come shop the Pecan Street Collective on June 1st! The market is held the first Saturday of each month from 10:00 A.M. – 3:00 P.M. and features over 30 local makers backed by live music. We’ve also doubled our vendor booths to include host site The Merc along with West Pecan\, Ruffles and Rust\, Ceramics N More\, Pecan St. Market\, and Three Legged Goat. See you there!
URL:https://westpecancoffee.com/event/june-1st-pecan-street-collective/
LOCATION:Pecan Street\, Pflugerville\, Texas\, Pecan Street\, Pflugerville\, Texas\, 78660
CATEGORIES:Pecan Street Collective
ORGANIZER;CN="Pecan Street Collective":MAILTO:collective@westpecancoffee.com
END:VEVENT
BEGIN:VEVENT
DTSTART;TZID=UTC:20240504T100000
DTEND;TZID=UTC:20240504T150000
DTSTAMP:20260423T183019
CREATED:20240205T015117Z
LAST-MODIFIED:20240205T015117Z
UID:2995-1714816800-1714834800@westpecancoffee.com
SUMMARY:May 4th Pecan Street Collective
DESCRIPTION:Come shop the Pecan Street Collective on May 4th! The market is held the first Saturday of each month from 10:00 A.M. – 3:00 P.M. and features over 30 local makers backed by live music. We’ve also doubled our vendor booths to include host site The Merc along with West Pecan\, Ruffles and Rust\, Ceramics N More\, Pecan St. Market\, and Three Legged Goat. See you there!
URL:https://westpecancoffee.com/event/may-4th-pecan-street-collective/
LOCATION:Pecan Street\, Pflugerville\, Texas\, Pecan Street\, Pflugerville\, Texas\, 78660
CATEGORIES:Pecan Street Collective
ORGANIZER;CN="Pecan Street Collective":MAILTO:collective@westpecancoffee.com
END:VEVENT
BEGIN:VEVENT
DTSTART;TZID=UTC:20240420T133000
DTEND;TZID=UTC:20240420T153000
DTSTAMP:20260423T183019
CREATED:20240205T015940Z
LAST-MODIFIED:20240205T015940Z
UID:3003-1713619800-1713627000@westpecancoffee.com
SUMMARY:FREE Poetry Reading/Open Mic
DESCRIPTION:Join Jim Parker\, local teacher\, and the rest of the community of Pflugerville as we host an open mic poetry reading\, free of charge! Whether you want to present your own work\, support a friend\, or just get a glimpse of a possibly new style of writing and art\, we encourage you to join us! There is no admission or cover charge. Expect a full house and bring your friends!
URL:https://westpecancoffee.com/event/free-poetry-reading-open-mic-17/
LOCATION:West Pecan Coffee and Beer\, 100 W. Pecan Street\, Pflugerville\, TX\, 78660\, United States
CATEGORIES:Open Mic Poetry Reading
ATTACH;FMTTYPE=image/png:https://westpecancoffee.com/wp-content/uploads/2023/06/Poetry.png
END:VEVENT
BEGIN:VEVENT
DTSTART;TZID=UTC:20240406T100000
DTEND;TZID=UTC:20240406T150000
DTSTAMP:20260423T183019
CREATED:20240205T014917Z
LAST-MODIFIED:20240205T014917Z
UID:2993-1712397600-1712415600@westpecancoffee.com
SUMMARY:April 6th Pecan Street Collective
DESCRIPTION:Come shop the Pecan Street Collective on April 6th! The market is held the first Saturday of each month from 10:00 A.M. – 3:00 P.M. and features over 30 local makers backed by live music. We’ve also doubled our vendor booths to include host site The Merc along with West Pecan\, Ruffles and Rust\, Ceramics N More\, Pecan St. Market\, and Three Legged Goat. See you there!
URL:https://westpecancoffee.com/event/april-6th-pecan-street-collective/
LOCATION:Pecan Street\, Pflugerville\, Texas\, Pecan Street\, Pflugerville\, Texas\, 78660
CATEGORIES:Pecan Street Collective
ORGANIZER;CN="Pecan Street Collective":MAILTO:collective@westpecancoffee.com
END:VEVENT
BEGIN:VEVENT
DTSTART;TZID=UTC:20240316T133000
DTEND;TZID=UTC:20240316T153000
DTSTAMP:20260423T183019
CREATED:20240205T015800Z
LAST-MODIFIED:20240205T015800Z
UID:3001-1710595800-1710603000@westpecancoffee.com
SUMMARY:FREE Poetry Reading/ Open Mic
DESCRIPTION:Join Jim Parker\, local teacher\, and the rest of the community of Pflugerville as we host an open mic poetry reading\, free of charge! Whether you want to present your own work\, support a friend\, or just get a glimpse of a possibly new style of writing and art\, we encourage you to join us! There is no admission or cover charge. Expect a full house and bring your friends!
URL:https://westpecancoffee.com/event/free-poetry-reading-open-mic-16/
LOCATION:West Pecan Coffee and Beer\, 100 W. Pecan Street\, Pflugerville\, TX\, 78660\, United States
CATEGORIES:Open Mic Poetry Reading
ATTACH;FMTTYPE=image/png:https://westpecancoffee.com/wp-content/uploads/2023/06/Poetry.png
END:VEVENT
BEGIN:VEVENT
DTSTART;TZID=UTC:20240302T100000
DTEND;TZID=UTC:20240302T150000
DTSTAMP:20260423T183019
CREATED:20240205T014746Z
LAST-MODIFIED:20240301T214715Z
UID:2991-1709373600-1709391600@westpecancoffee.com
SUMMARY:March 2nd Pecan Street Collective
DESCRIPTION:Come shop the Pecan Street Collective on March 2nd! The market is held the first Saturday of each month from 10:00 A.M. – 3:00 P.M. and features over 30 local makers backed by live music. We’ve also doubled our vendor booths to include host site The Merc along with West Pecan\, Ruffles and Rust\, Ceramics N More\, Pecan St. Market\, and Three Legged Goat. See you there!
URL:https://westpecancoffee.com/event/march-2nd-pecan-street-collective/
LOCATION:Pecan Street\, Pflugerville\, Texas\, Pecan Street\, Pflugerville\, Texas\, 78660
CATEGORIES:Pecan Street Collective
ATTACH;FMTTYPE=image/jpeg:https://westpecancoffee.com/wp-content/uploads/2024/02/image0-2.jpeg
ORGANIZER;CN="Pecan Street Collective":MAILTO:collective@westpecancoffee.com
END:VEVENT
BEGIN:VEVENT
DTSTART;TZID=UTC:20240217T133000
DTEND;TZID=UTC:20240217T153000
DTSTAMP:20260423T183019
CREATED:20240205T015637Z
LAST-MODIFIED:20240205T015637Z
UID:2999-1708176600-1708183800@westpecancoffee.com
SUMMARY:FREE Poetry Reading/Open Mic
DESCRIPTION:Join Jim Parker\, local teacher\, and the rest of the community of Pflugerville as we host an open mic poetry reading\, free of charge! Whether you want to present your own work\, support a friend\, or just get a glimpse of a possibly new style of writing and art\, we encourage you to join us! There is no admission or cover charge. Expect a full house and bring your friends!
URL:https://westpecancoffee.com/event/free-poetry-reading-open-mic-15/
LOCATION:West Pecan Coffee and Beer\, 100 W. Pecan Street\, Pflugerville\, TX\, 78660\, United States
CATEGORIES:Open Mic Poetry Reading
ATTACH;FMTTYPE=image/png:https://westpecancoffee.com/wp-content/uploads/2023/06/Poetry.png
END:VEVENT
BEGIN:VEVENT
DTSTART;TZID=UTC:20231216T133000
DTEND;TZID=UTC:20231216T150000
DTSTAMP:20260423T183019
CREATED:20230831T023036Z
LAST-MODIFIED:20230831T031433Z
UID:2940-1702733400-1702738800@westpecancoffee.com
SUMMARY:FREE Poetry Reading/Open Mic
DESCRIPTION:Join Jim Parker\, local teacher\, and the rest of the community of Pflugerville as we host an open mic poetry reading\, free of charge! Whether you want to present your own work\, support a friend\, or just get a glimpse of a possibly new style of writing and art\, we encourage you to join us! There is no admission or cover charge. Expect a full house and bring your friends!
URL:https://westpecancoffee.com/event/free-poetry-reading-open-mic-14/
LOCATION:TX
CATEGORIES:Open Mic Poetry Reading
ATTACH;FMTTYPE=image/png:https://westpecancoffee.com/wp-content/uploads/2023/06/Poetry.png
END:VEVENT
BEGIN:VEVENT
DTSTART;TZID=UTC:20231125T100000
DTEND;TZID=UTC:20231125T150000
DTSTAMP:20260423T183019
CREATED:20230831T031010Z
LAST-MODIFIED:20240205T014356Z
UID:2955-1700906400-1700924400@westpecancoffee.com
SUMMARY:November 25th Pecan Street Collective
DESCRIPTION:Come shop the Pecan Street Collective on November 25! The market is held the first Saturday of each month from 10:00 A.M. – 3:00 P.M. and features over 30 local makers backed by live music. We’ve also doubled our vendor booths to include host site The Merc along with West Pecan\, Ruffles and Rust\, Ceramics N More\, Pecan St. Market\, and Three Legged Goat. See you there!
URL:https://westpecancoffee.com/event/november-25th-pecan-street-collective/
LOCATION:Pecan Street\, Pflugerville\, Texas\, Pecan Street\, Pflugerville\, Texas\, 78660
CATEGORIES:Pecan Street Collective
ATTACH;FMTTYPE=image/jpeg:https://westpecancoffee.com/wp-content/uploads/2023/08/6047a287-f618-4c66-9db8-e4eff94ad1fa.jpg
ORGANIZER;CN="Pecan Street Collective":MAILTO:collective@westpecancoffee.com
END:VEVENT
BEGIN:VEVENT
DTSTART;TZID=UTC:20231118T133000
DTEND;TZID=UTC:20231118T150000
DTSTAMP:20260423T183019
CREATED:20230831T022923Z
LAST-MODIFIED:20230831T031506Z
UID:2938-1700314200-1700319600@westpecancoffee.com
SUMMARY:FREE Poetry Reading/Open Mic
DESCRIPTION:Join Jim Parker\, local teacher\, and the rest of the community of Pflugerville as we host an open mic poetry reading\, free of charge! Whether you want to present your own work\, support a friend\, or just get a glimpse of a possibly new style of writing and art\, we encourage you to join us! There is no admission or cover charge. Expect a full house and bring your friends!
URL:https://westpecancoffee.com/event/free-poetry-reading-open-mic-13/
LOCATION:West Pecan Coffee and Beer\, 100 W. Pecan Street\, Pflugerville\, TX\, 78660\, United States
CATEGORIES:Open Mic Poetry Reading
ATTACH;FMTTYPE=image/png:https://westpecancoffee.com/wp-content/uploads/2023/06/Poetry.png
END:VEVENT
BEGIN:VEVENT
DTSTART;TZID=UTC:20231104T100000
DTEND;TZID=UTC:20231104T150000
DTSTAMP:20260423T183019
CREATED:20230831T030857Z
LAST-MODIFIED:20230831T030857Z
UID:2953-1699092000-1699110000@westpecancoffee.com
SUMMARY:November 4th Pecan Street Collective
DESCRIPTION:Come shop the Pecan Street Collective on August 5th! The market is held the first Saturday of each month from 10:00 A.M. – 3:00 P.M. and features over 30 local makers backed by live music. We’ve also doubled our vendor booths to include host site Stylin’ Salon along with West Pecan\, Ruffles and Rust\, Ceramics N More\, Pecan St. Market\, and Three Legged Goat. See you there!
URL:https://westpecancoffee.com/event/november-4th-pecan-street-collective/
LOCATION:Pecan Street\, Pflugerville\, Texas\, Pecan Street\, Pflugerville\, Texas\, 78660
CATEGORIES:Pecan Street Collective
ATTACH;FMTTYPE=image/jpeg:https://westpecancoffee.com/wp-content/uploads/2023/08/November-IGgraphic-scaled.jpg
ORGANIZER;CN="Pecan Street Collective":MAILTO:collective@westpecancoffee.com
END:VEVENT
BEGIN:VEVENT
DTSTART;TZID=UTC:20231021T133000
DTEND;TZID=UTC:20231021T150000
DTSTAMP:20260423T183019
CREATED:20230831T022820Z
LAST-MODIFIED:20230831T031551Z
UID:2936-1697895000-1697900400@westpecancoffee.com
SUMMARY:FREE Poetry Reading/Open Mic
DESCRIPTION:Join Jim Parker\, local teacher\, and the rest of the community of Pflugerville as we host an open mic poetry reading\, free of charge! Whether you want to present your own work\, support a friend\, or just get a glimpse of a possibly new style of writing and art\, we encourage you to join us! There is no admission or cover charge. Expect a full house and bring your friends!
URL:https://westpecancoffee.com/event/free-poetry-reading-open-mic-12/
LOCATION:West Pecan Coffee and Beer\, 100 W. Pecan Street\, Pflugerville\, TX\, 78660\, United States
CATEGORIES:Open Mic Poetry Reading
ATTACH;FMTTYPE=image/png:https://westpecancoffee.com/wp-content/uploads/2023/06/Poetry.png
END:VEVENT
BEGIN:VEVENT
DTSTART;TZID=UTC:20231007T100000
DTEND;TZID=UTC:20231113T150000
DTSTAMP:20260423T183019
CREATED:20230831T023817Z
LAST-MODIFIED:20230831T031209Z
UID:2948-1696672800-1699887600@westpecancoffee.com
SUMMARY:October Pecan Street Collective
DESCRIPTION:Come shop the Pecan Street Collective on August 5th! The market is held the first Saturday of each month from 10:00 A.M. – 3:00 P.M. and features over 30 local makers backed by live music. We’ve also doubled our vendor booths to include host site Stylin’ Salon along with West Pecan\, Ruffles and Rust\, Ceramics N More\, Pecan St. Market\, and Three Legged Goat. See you there!
URL:https://westpecancoffee.com/event/october-pecan-street-collective/
LOCATION:Pecan Street\, Pflugerville\, Texas\, Pecan Street\, Pflugerville\, Texas\, 78660
CATEGORIES:Pecan Street Collective
ATTACH;FMTTYPE=image/jpeg:https://westpecancoffee.com/wp-content/uploads/2023/08/october-IGgraphic-scaled.jpg
ORGANIZER;CN="Pecan Street Collective":MAILTO:collective@westpecancoffee.com
END:VEVENT
BEGIN:VEVENT
DTSTART;TZID=UTC:20230916T133000
DTEND;TZID=UTC:20230916T150000
DTSTAMP:20260423T183019
CREATED:20230420T042725Z
LAST-MODIFIED:20230831T031725Z
UID:2896-1694871000-1694876400@westpecancoffee.com
SUMMARY:FREE Poetry Reading/Open Mic
DESCRIPTION:Join Jim Parker\, local teacher\, and the rest of the community of Pflugerville as we host an open mic poetry reading\, free of charge! Whether you want to present your own work\, support a friend\, or just get a glimpse of a possibly new style of writing and art\, we encourage you to join us! There is no admission or cover charge. Expect a full house and bring your friends!
URL:https://westpecancoffee.com/event/free-poetry-reading-open-mic-11/
LOCATION:West Pecan Coffee and Beer\, 100 W. Pecan Street\, Pflugerville\, TX\, 78660\, United States
CATEGORIES:Open Mic Poetry Reading
ATTACH;FMTTYPE=image/png:https://westpecancoffee.com/wp-content/uploads/2023/06/Poetry.png
END:VEVENT
END:VCALENDAR