BEGIN:VCALENDAR
VERSION:2.0
PRODID:-//West Pecan Coffee + Beer - ECPv6.15.20//NONSGML v1.0//EN
CALSCALE:GREGORIAN
METHOD:PUBLISH
X-WR-CALNAME:West Pecan Coffee + Beer
X-ORIGINAL-URL:https://westpecancoffee.com
X-WR-CALDESC:Events for West Pecan Coffee + Beer
REFRESH-INTERVAL;VALUE=DURATION:PT1H
X-Robots-Tag:noindex
X-PUBLISHED-TTL:PT1H
BEGIN:VTIMEZONE
TZID:UTC
BEGIN:STANDARD
TZOFFSETFROM:+0000
TZOFFSETTO:+0000
TZNAME:UTC
DTSTART:20210101T000000
END:STANDARD
END:VTIMEZONE
BEGIN:VEVENT
DTSTART;TZID=UTC:20230610T151500
DTEND;TZID=UTC:20230610T173000
DTSTAMP:20260423T230037
CREATED:20230526T193407Z
LAST-MODIFIED:20230526T193730Z
UID:2899-1686410100-1686418200@westpecancoffee.com
SUMMARY:FREE Pflugerville Pride Poetry Reading
DESCRIPTION:Join Jim Parker\, local teacher\, and the rest of the community of Pflugerville as we host an open mic poetry reading\, free of charge! Whether you want to present your own work\, support a friend\, or just get a glimpse of a possibly new style of writing and art\, we encourage you to join us! There is no admission or cover charge. Expect a full house and bring your friends!
URL:https://westpecancoffee.com/event/pflugerville-pride-poetry-reading/
LOCATION:West Pecan Coffee and Beer\, 100 W. Pecan Street\, Pflugerville\, TX\, 78660\, United States
CATEGORIES:Open Mic Poetry Reading
END:VEVENT
BEGIN:VEVENT
DTSTART;TZID=UTC:20230603T100000
DTEND;TZID=UTC:20230603T150000
DTSTAMP:20260423T230037
CREATED:20230526T195019Z
LAST-MODIFIED:20230526T195142Z
UID:2903-1685786400-1685804400@westpecancoffee.com
SUMMARY:June Pecan Street Collective
DESCRIPTION:Local maker’s market in downtown Pflugerville!
URL:https://westpecancoffee.com/event/june-pecan-street-collective/
LOCATION:Pecan Street\, Pflugerville\, Texas\, Pecan Street\, Pflugerville\, Texas\, 78660
CATEGORIES:Pecan Street Collective
ATTACH;FMTTYPE=image/jpeg:https://westpecancoffee.com/wp-content/uploads/2023/05/June-IGgraphic-01-copy-1.jpg
ORGANIZER;CN="Pecan Street Collective":MAILTO:collective@westpecancoffee.com
END:VEVENT
BEGIN:VEVENT
DTSTART;TZID=UTC:20230520T133000
DTEND;TZID=UTC:20230520T150000
DTSTAMP:20260423T230037
CREATED:20230420T040805Z
LAST-MODIFIED:20230420T041254Z
UID:2888-1684589400-1684594800@westpecancoffee.com
SUMMARY:FREE Poetry Reading/Open Mic
DESCRIPTION:Join Jim Parker\, local teacher\, and the rest of the community of Pflugerville as we host an open mic poetry reading\, free of charge! Whether you want to present your own work\, support a friend\, or just get a glimpse of a possibly new style of writing and art\, we encourage you to join us! There is no admission or cover charge. Expect a full house and bring your friends!
URL:https://westpecancoffee.com/event/free-poetry-reading-open-mic-7/
LOCATION:TX
CATEGORIES:Open Mic Poetry Reading
ATTACH;FMTTYPE=image/jpeg:https://westpecancoffee.com/wp-content/uploads/2022/09/istockphoto-891429234-612x612-1.jpeg
END:VEVENT
BEGIN:VEVENT
DTSTART;TZID=UTC:20230401T100000
DTEND;TZID=UTC:20230401T150000
DTSTAMP:20260423T230037
CREATED:20230329T151516Z
LAST-MODIFIED:20230329T151516Z
UID:2880-1680343200-1680361200@westpecancoffee.com
SUMMARY:April Pecan Street Collective
DESCRIPTION:Local maker’s market in downtown Pflugerville!
URL:https://westpecancoffee.com/event/april-pecan-street-collective/
LOCATION:Pecan Street\, Pflugerville\, Texas\, Pecan Street\, Pflugerville\, Texas\, 78660
CATEGORIES:Pecan Street Collective
ATTACH;FMTTYPE=image/jpeg:https://westpecancoffee.com/wp-content/uploads/2023/03/April-IGgraphic-01-copy-scaled.jpg
ORGANIZER;CN="Pecan Street Collective":MAILTO:collective@westpecancoffee.com
END:VEVENT
BEGIN:VEVENT
DTSTART;TZID=UTC:20230318T133000
DTEND;TZID=UTC:20230318T150000
DTSTAMP:20260423T230037
CREATED:20221220T220526Z
LAST-MODIFIED:20221220T220526Z
UID:2846-1679146200-1679151600@westpecancoffee.com
SUMMARY:FREE Poetry Reading/Open Mic
DESCRIPTION:Join Jim Parker\, local teacher\, and the rest of the community of Pflugerville as we host an open mic poetry reading\, free of charge! Whether you want to present your own work\, support a friend\, or just get a glimpse of a possibly new style of writing and art\, we encourage you to join us! There is no admission or cover charge. Expect a full house and bring your friends!
URL:https://westpecancoffee.com/event/free-poetry-reading-open-mic-6/
LOCATION:West Pecan Coffee and Beer\, 100 W. Pecan Street\, Pflugerville\, TX\, 78660\, United States
ATTACH;FMTTYPE=image/jpeg:https://westpecancoffee.com/wp-content/uploads/2022/09/istockphoto-891429234-612x612-1.jpeg
END:VEVENT
BEGIN:VEVENT
DTSTART;TZID=UTC:20230304T100000
DTEND;TZID=UTC:20230304T150000
DTSTAMP:20260423T230037
CREATED:20230130T025953Z
LAST-MODIFIED:20230130T025953Z
UID:2861-1677924000-1677942000@westpecancoffee.com
SUMMARY:March Pecan Street Collective
DESCRIPTION:Local maker’s market hosted in downtown Pflugerville!
URL:https://westpecancoffee.com/event/march-pecan-street-collective/
LOCATION:Pecan Street\, Pflugerville\, Texas\, Pecan Street\, Pflugerville\, Texas\, 78660
CATEGORIES:Pecan Street Collective
ATTACH;FMTTYPE=image/jpeg:https://westpecancoffee.com/wp-content/uploads/2023/01/PSC-March-2023.jpeg
ORGANIZER;CN="Pecan Street Collective":MAILTO:collective@westpecancoffee.com
END:VEVENT
BEGIN:VEVENT
DTSTART;TZID=UTC:20230218T133000
DTEND;TZID=UTC:20230218T150000
DTSTAMP:20260423T230037
CREATED:20221220T215944Z
LAST-MODIFIED:20221220T215944Z
UID:2840-1676727000-1676732400@westpecancoffee.com
SUMMARY:FREE Poetry Reading/Open Mic
DESCRIPTION:Join Jim Parker\, local teacher\, and the rest of the community of Pflugerville as we host an open mic poetry reading\, free of charge! Whether you want to present your own work\, support a friend\, or just get a glimpse of a possibly new style of writing and art\, we encourage you to join us! There is no admission or cover charge. Expect a full house and bring your friends!
URL:https://westpecancoffee.com/event/free-poetry-reading-open-mic-5/
LOCATION:West Pecan Coffee and Beer\, 100 W. Pecan Street\, Pflugerville\, TX\, 78660\, United States
ATTACH;FMTTYPE=image/jpeg:https://westpecancoffee.com/wp-content/uploads/2022/09/istockphoto-891429234-612x612-1.jpeg
END:VEVENT
BEGIN:VEVENT
DTSTART;TZID=UTC:20230204T100000
DTEND;TZID=UTC:20230204T150000
DTSTAMP:20260423T230037
CREATED:20230130T024814Z
LAST-MODIFIED:20230130T024814Z
UID:2858-1675504800-1675522800@westpecancoffee.com
SUMMARY:February Pecan Street Collective
DESCRIPTION:Local maker’s market hosted in downtown Pflugerville!
URL:https://westpecancoffee.com/event/february-pecan-street-collective/
LOCATION:Pecan Street\, Pflugerville\, Texas\, Pecan Street\, Pflugerville\, Texas\, 78660
CATEGORIES:Pecan Street Collective
ATTACH;FMTTYPE=image/jpeg:https://westpecancoffee.com/wp-content/uploads/2023/01/PSC-Feb-2023.jpeg
ORGANIZER;CN="Pecan Street Collective":MAILTO:collective@westpecancoffee.com
END:VEVENT
BEGIN:VEVENT
DTSTART;TZID=UTC:20230121T133000
DTEND;TZID=UTC:20230121T150000
DTSTAMP:20260423T230037
CREATED:20221220T220427Z
LAST-MODIFIED:20221220T220427Z
UID:2844-1674307800-1674313200@westpecancoffee.com
SUMMARY:FREE Poetry Reading/Open Mic
DESCRIPTION:Join Jim Parker\, local teacher\, and the rest of the community of Pflugerville as we host an open mic poetry reading\, free of charge! Whether you want to present your own work\, support a friend\, or just get a glimpse of a possibly new style of writing and art\, we encourage you to join us! There is no admission or cover charge. Expect a full house and bring your friends!
URL:https://westpecancoffee.com/event/free-poetry-reading-open-mic-4/
LOCATION:West Pecan Coffee and Beer\, 100 W. Pecan Street\, Pflugerville\, TX\, 78660\, United States
ATTACH;FMTTYPE=image/jpeg:https://westpecancoffee.com/wp-content/uploads/2022/09/istockphoto-891429234-612x612-1.jpeg
END:VEVENT
BEGIN:VEVENT
DTSTART;TZID=UTC:20221210T133000
DTEND;TZID=UTC:20221210T150000
DTSTAMP:20260423T230037
CREATED:20220919T151514Z
LAST-MODIFIED:20220919T151514Z
UID:2803-1670679000-1670684400@westpecancoffee.com
SUMMARY:FREE Poetry Reading/Open Mic
DESCRIPTION:Join Jim Parker\, local teacher\, and the rest of the community of Pflugerville as we host an open mic poetry reading\, free of charge! Whether you want to present your own work\, support a friend\, or just get a glimpse of a possibly new style of writing and art\, we encourage you to join us! There is no admission or cover charge. Expect a full house and bring your friends!
URL:https://westpecancoffee.com/event/free-poetry-reading-open-mic-3/
LOCATION:West Pecan Coffee and Beer\, 100 W. Pecan Street\, Pflugerville\, TX\, 78660\, United States
ATTACH;FMTTYPE=image/jpeg:https://westpecancoffee.com/wp-content/uploads/2022/09/WP-facebook-poetry_Dec-10-2022-scaled.jpeg
END:VEVENT
BEGIN:VEVENT
DTSTART;TZID=UTC:20221204T140000
DTEND;TZID=UTC:20221204T153000
DTSTAMP:20260423T230037
CREATED:20220919T150543Z
LAST-MODIFIED:20220919T150543Z
UID:2796-1670162400-1670167800@westpecancoffee.com
SUMMARY:Modern Calligraphy & Ornament Lettering for Beginners
DESCRIPTION:Join us at West Pecan Coffee + Beer in Pflugerville\, TX for a festive afternoon of holiday fun and pretty lettering for beginners! Whether you’re a stationery nerd\, DIY Bride-to-be\, or just a crafty individual\, in this workshop you’ll be learning an introduction to modern calligraphy with a pointed dip pen and ink. We will cover all the basics and get you ready to add those special lettered details to all your holiday tables\, Christmas trees\, hostess gifts\, gift tags\, holiday card mailings and more! \nClass includes 1.5 hours of instruction and demonstration\, our beginner’s calligraphy kit (two nibs\, black ink pot\, 2 letter guides\, tracing paper and straight pen holder)\, and all materials to write on. Everything is yours to keep at the end of the class!
URL:https://westpecancoffee.com/event/modern-calligraphy-ornament-lettering-for-beginners/
LOCATION:West Pecan Coffee and Beer\, 100 W. Pecan Street\, Pflugerville\, TX\, 78660\, United States
ATTACH;FMTTYPE=image/png:https://westpecancoffee.com/wp-content/uploads/2022/09/f_l7gn5p2z2.png
END:VEVENT
BEGIN:VEVENT
DTSTART;TZID=UTC:20221203T100000
DTEND;TZID=UTC:20221203T150000
DTSTAMP:20260423T230037
CREATED:20220919T151954Z
LAST-MODIFIED:20221108T162230Z
UID:2805-1670061600-1670079600@westpecancoffee.com
SUMMARY:Pecan Street Collective
DESCRIPTION:Join us Downtown Pflugerville at West Pecan\, Stylin’ Salon\, Ruffles and Rust\, Ceramics N More and Wink Boutique as we host this local makers market. This is a great way to support the local downtown economy as well as vendors and makers local to you! They are hosted outdoors on the first Saturday of every month from 10am to 3pm.
URL:https://westpecancoffee.com/event/pecan-street-collective-3/
LOCATION:Pecan Street\, Pflugerville\, Texas\, Pecan Street\, Pflugerville\, Texas\, 78660
ATTACH;FMTTYPE=image/jpeg:https://westpecancoffee.com/wp-content/uploads/2022/09/PSC-Dec-2022_IG.jpg
ORGANIZER;CN="Pecan Street Collective":MAILTO:collective@westpecancoffee.com
END:VEVENT
BEGIN:VEVENT
DTSTART;TZID=UTC:20221113T140000
DTEND;TZID=UTC:20221113T173000
DTSTAMP:20260423T230037
CREATED:20220919T150044Z
LAST-MODIFIED:20220919T150110Z
UID:2793-1668348000-1668360600@westpecancoffee.com
SUMMARY:Thanksgiving Tablescape Calligraphy for Beginners
DESCRIPTION:Join Sip & Script® for an Afternoon of Learning Calligraphy!\nJoin us at West Pecan Coffee + Beer in Pflugerville\, TX for an afternoon of coffee\, brews\, and pretty lettering for beginners! Whether you’re a stationery nerd\, DIY Bride-to-be\, or just a crafty individual\, in this workshop you’ll be learning an introduction to modern calligraphy with a pointed dip pen and ink. We will cover all the basics and get you ready to add those special lettered details to your snail mail\, wedding paper goods\, home decor and more! The perfect crafty afternoon! \nClass includes 1.5 hours of instruction and demonstration\, our beginner’s calligraphy kit (two nibs\, black ink pot\, 2 letter guides\, tracing paper and straight pen holder)\, and all materials to write on. Everything is yours to keep at the end of the night!
URL:https://westpecancoffee.com/event/2793/
LOCATION:West Pecan Coffee and Beer\, 100 W. Pecan Street\, Pflugerville\, TX\, 78660\, United States
ATTACH;FMTTYPE=image/png:https://westpecancoffee.com/wp-content/uploads/2022/09/WP-11.13.png
END:VEVENT
BEGIN:VEVENT
DTSTART;TZID=UTC:20221112T133000
DTEND;TZID=UTC:20221112T150000
DTSTAMP:20260423T230037
CREATED:20220919T151417Z
LAST-MODIFIED:20220919T151417Z
UID:2801-1668259800-1668265200@westpecancoffee.com
SUMMARY:FREE Poetry Reading/Open Mic
DESCRIPTION:Join Jim Parker\, local teacher\, and the rest of the community of Pflugerville as we host an open mic poetry reading\, free of charge! Whether you want to present your own work\, support a friend\, or just get a glimpse of a possibly new style of writing and art\, we encourage you to join us! There is no admission or cover charge. Expect a full house and bring your friends!
URL:https://westpecancoffee.com/event/free-poetry-reading-open-mic-2/
LOCATION:West Pecan Coffee and Beer\, 100 W. Pecan Street\, Pflugerville\, TX\, 78660\, United States
ATTACH;FMTTYPE=image/jpeg:https://westpecancoffee.com/wp-content/uploads/2022/09/WP-facebook-poetry_Nov-12-2022-scaled.jpeg
END:VEVENT
BEGIN:VEVENT
DTSTART;TZID=UTC:20221023T140000
DTEND;TZID=UTC:20221023T153000
DTSTAMP:20260423T230037
CREATED:20220919T120038Z
LAST-MODIFIED:20220919T143527Z
UID:2784-1666533600-1666539000@westpecancoffee.com
SUMMARY:Introduction to Modern Calligraphy(and Pumpkin Lettering)
DESCRIPTION:Join us at West Pecan Coffee + Beer in Pflugerville\, TX for a festive afternoon of spooky fun and pretty lettering! Whether you’re a stationery nerd\, DIY Bride-to-be\, or just a crafty individual\, in this workshop you’ll be learning an introduction to modern calligraphy with a pointed dip pen and ink. We will cover all the basics and get you ready to add those special lettered details to all your spooky spreads – think lettered pumpkins at your front door\, on your bar cart\, as a Halloween party hostess gift or special occasion gift! \nClass includes 1.5 hours of instruction and demonstration\, our beginner’s calligraphy kit (two nibs\, black ink pot\, 2 letter guides\, tracing paper and straight pen holder)\, and all materials to write on. Everything is yours to keep at the end of the class! \nAdditionally\, we will be lettering on faux pumpkins at the end of our class time! \nClick the attached link to purchase tickets for the event.
URL:https://westpecancoffee.com/event/introduction-to-modern-calligraphyand-pumpkin-lettering/
LOCATION:West Pecan Coffee and Beer\, 100 W. Pecan Street\, Pflugerville\, TX\, 78660\, United States
ATTACH;FMTTYPE=image/png:https://westpecancoffee.com/wp-content/uploads/2022/09/wp-10.23.png
END:VEVENT
BEGIN:VEVENT
DTSTART;TZID=UTC:20221008T133000
DTEND;TZID=UTC:20221008T150000
DTSTAMP:20260423T230037
CREATED:20220919T151250Z
LAST-MODIFIED:20220919T151317Z
UID:2798-1665235800-1665241200@westpecancoffee.com
SUMMARY:FREE Poetry Reading/Open Mic
DESCRIPTION:Join Jim Parker\, local teacher\, and the rest of the community of Pflugerville as we host an open mic poetry reading\, free of charge! Whether you want to present your own work\, support a friend\, or just get a glimpse of a possibly new style of writing and art\, we encourage you to join us! There is no admission or cover charge. Expect a full house and bring your friends!
URL:https://westpecancoffee.com/event/free-poetry-reading-open-mic/
LOCATION:West Pecan Coffee and Beer\, 100 W. Pecan Street\, Pflugerville\, TX\, 78660\, United States
ATTACH;FMTTYPE=image/jpeg:https://westpecancoffee.com/wp-content/uploads/2022/09/WP-facebook-poetry_Oct-8-2022-scaled.jpg
END:VEVENT
BEGIN:VEVENT
DTSTART;TZID=UTC:20220918T130000
DTEND;TZID=UTC:20220918T153000
DTSTAMP:20260423T230037
CREATED:20220613T171627Z
LAST-MODIFIED:20220613T171627Z
UID:2716-1663506000-1663515000@westpecancoffee.com
SUMMARY:Introduction to Modern Calligraphy
DESCRIPTION:Join us at West Pecan Coffee + Beer in Pflugerville\, TX for an afternoon of coffee\, brews\, and pretty lettering! Whether you’re a stationery nerd\, DIY Bride-to-be\, or just a crafty individual\, in this workshop you’ll be learning an introduction to modern calligraphy with a pointed dip pen and ink. We will cover all the basics and get you ready to add those special lettered details to your snail mail\, wedding paper goods\, home decor and more! The perfect crafty afternoon! \nClass includes 1.5 hours of instruction and demonstration\, our beginner’s calligraphy kit (two nibs\, black ink pot\, 2 letter guides\, tracing paper and straight pen holder)\, and all materials to write on. Everything is yours to keep at the end of the night!
URL:https://westpecancoffee.com/event/introduction-to-modern-calligraphy-6/
LOCATION:TX
ATTACH;FMTTYPE=image/jpeg:https://westpecancoffee.com/wp-content/uploads/2022/06/20220611_092924_0000.jpg
END:VEVENT
BEGIN:VEVENT
DTSTART;TZID=UTC:20220814T140000
DTEND;TZID=UTC:20220814T153000
DTSTAMP:20260423T230037
CREATED:20220613T171332Z
LAST-MODIFIED:20220613T171427Z
UID:2714-1660485600-1660491000@westpecancoffee.com
SUMMARY:Introduction to Modern Calligraphy
DESCRIPTION:Join us at West Pecan Coffee + Beer in Pflugerville\, TX for an afternoon of coffee\, brews\, and pretty lettering! Whether you’re a stationery nerd\, DIY Bride-to-be\, or just a crafty individual\, in this workshop you’ll be learning an introduction to modern calligraphy with a pointed dip pen and ink. We will cover all the basics and get you ready to add those special lettered details to your snail mail\, wedding paper goods\, home decor and more! The perfect crafty afternoon! \nClass includes 1.5 hours of instruction and demonstration\, our beginner’s calligraphy kit (two nibs\, black ink pot\, 2 letter guides\, tracing paper and straight pen holder)\, and all materials to write on. Everything is yours to keep at the end of the night!
URL:https://westpecancoffee.com/event/https-sipandscript-com-event-modern-calligraphy-at-west-pecan-coffee-beer-5/
LOCATION:West Pecan Coffee and Beer\, 100 W. Pecan Street\, Pflugerville\, TX\, 78660\, United States
ATTACH;FMTTYPE=image/jpeg:https://westpecancoffee.com/wp-content/uploads/2022/06/png_20220611_092901_0000.jpg
END:VEVENT
BEGIN:VEVENT
DTSTART;TZID=UTC:20220710T140000
DTEND;TZID=UTC:20220710T153000
DTSTAMP:20260423T230037
CREATED:20220613T170821Z
LAST-MODIFIED:20220613T170821Z
UID:2710-1657461600-1657467000@westpecancoffee.com
SUMMARY:Introduction to Modern Calligraphy
DESCRIPTION:Join us at West Pecan Coffee + Beer in Pflugerville\, TX for an afternoon of coffee\, brews\, and pretty lettering! Whether you’re a stationery nerd\, DIY Bride-to-be\, or just a crafty individual\, in this workshop you’ll be learning an introduction to modern calligraphy with a pointed dip pen and ink. We will cover all the basics and get you ready to add those special lettered details to your snail mail\, wedding paper goods\, home decor and more! The perfect crafty afternoon! \nClass includes 1.5 hours of instruction and demonstration\, our beginner’s calligraphy kit (two nibs\, black ink pot\, 2 letter guides\, tracing paper and straight pen holder)\, and all materials to write on. Everything is yours to keep at the end of the night!
URL:https://westpecancoffee.com/event/introduction-to-modern-calligraphy-5/
LOCATION:West Pecan Coffee and Beer\, 100 W. Pecan Street\, Pflugerville\, TX\, 78660\, United States
ATTACH;FMTTYPE=image/jpeg:https://westpecancoffee.com/wp-content/uploads/2022/06/png_20220611_092946_0000.jpg
END:VEVENT
BEGIN:VEVENT
DTSTART;TZID=UTC:20220618T150000
DTEND;TZID=UTC:20220618T160000
DTSTAMP:20260423T230037
CREATED:20220517T152258Z
LAST-MODIFIED:20220608T150833Z
UID:2680-1655564400-1655568000@westpecancoffee.com
SUMMARY:Pride Poetry Reading
DESCRIPTION:In place of our usual Saturday monthly poetry reading\, we are sponsoring Pflugerville’s inaugural Pride event. Join us Saturday\, June 18th for a free open mic poetry reading hosted by members of the local LGBTQIA+ community. We are thrilled and gracious to host this event\, and hope you join us for a day of celebration!
URL:https://westpecancoffee.com/event/pride-poetry-reading/
LOCATION:West Pecan Coffee and Beer\, 100 W. Pecan Street\, Pflugerville\, TX\, 78660\, United States
CATEGORIES:Open Mic Poetry Reading
ATTACH;FMTTYPE=image/jpeg:https://westpecancoffee.com/wp-content/uploads/2022/05/IMG_9496.jpg
END:VEVENT
BEGIN:VEVENT
DTSTART;TZID=UTC:20220512T183000
DTEND;TZID=UTC:20220512T203000
DTSTAMP:20260423T230037
CREATED:20220302T184042Z
LAST-MODIFIED:20220302T184042Z
UID:2645-1652380200-1652387400@westpecancoffee.com
SUMMARY:Introduction to Modern Calligraphy
DESCRIPTION:Join us at West Pecan Coffee + Beer in Pflugerville\, TX for a night of coffee\, brews\, and pretty lettering! Whether you’re a stationery nerd\, DIY Bride-to-be\, or just a crafty individual\, in this workshop you’ll be learning an introduction to modern calligraphy with a pointed dip pen and ink. We will cover all the basics and get you ready to add those special lettered details to your snail mail\, wedding paper goods\, home decor and more! The perfect crafty night out! \nhttps://sipandscript.com/event/mothers-day-modern-calligraphy-at-west-pecan-coffee-beer/ \nClass includes 1.5 hours of instruction and demonstration\, our beginner’s calligraphy kit (two nibs\, black ink pot\, 2 letter guides\, tracing paper and straight pen holder)\, and all materials to write on. Everything is yours to keep at the end of the night!
URL:https://westpecancoffee.com/event/introduction-to-modern-calligraphy-4/
LOCATION:TX
ATTACH;FMTTYPE=image/png:https://westpecancoffee.com/wp-content/uploads/2022/03/West-Peacn-5.12.png
END:VEVENT
BEGIN:VEVENT
DTSTART;TZID=UTC:20220414T183000
DTEND;TZID=UTC:20220414T203000
DTSTAMP:20260423T230039
CREATED:20220302T183742Z
LAST-MODIFIED:20220302T184158Z
UID:2642-1649961000-1649968200@westpecancoffee.com
SUMMARY:Introduction to Modern Calligraphy
DESCRIPTION:Whether you’re a stationery nerd\, DIY Bride-to-be\, or just a crafty individual\, in this workshop you’ll be learning an introduction to modern calligraphy with a pointed dip pen and ink. We will cover all the basics and get you ready to add those special lettered details to your snail mail\, wedding paper goods\, home decor and more! The perfect crafty night out! \nhttps://sipandscript.com/event/modern-calligraphy-at-west-pecan-coffee-beer-3/ \nTickets available at the link above! The cost is $65 and the class includes 1.5 hours of instruction and demonstration\, our beginner’s calligraphy kit (two nibs\, black ink pot\, 2 letter guides\, tracing paper and straight pen holder)\, and all materials to write on. Everything is yours to keep at the end of the night!
URL:https://westpecancoffee.com/event/introduction-to-modern-calligraphy-3/
LOCATION:TX
ATTACH;FMTTYPE=image/png:https://westpecancoffee.com/wp-content/uploads/2022/03/West-Pecan-4.14.png
END:VEVENT
BEGIN:VEVENT
DTSTART;TZID=UTC:20220323T183000
DTEND;TZID=UTC:20220323T203000
DTSTAMP:20260423T230041
CREATED:20220302T182757Z
LAST-MODIFIED:20220302T182841Z
UID:2638-1648060200-1648067400@westpecancoffee.com
SUMMARY:Game Night hosted by Pflugerville Parks & Rec
DESCRIPTION:
URL:https://westpecancoffee.com/event/game-night-hosted-by-pflugerville-parks-rec/
LOCATION:West Pecan Coffee and Beer\, 100 W. Pecan Street\, Pflugerville\, TX\, 78660\, United States
ATTACH;FMTTYPE=image/jpeg:https://westpecancoffee.com/wp-content/uploads/2022/03/game-night-@-west-pecan-01-scaled.jpg
END:VEVENT
BEGIN:VEVENT
DTSTART;TZID=UTC:20220310T183000
DTEND;TZID=UTC:20220310T200000
DTSTAMP:20260423T230041
CREATED:20220129T200001Z
LAST-MODIFIED:20220129T200448Z
UID:2604-1646937000-1646942400@westpecancoffee.com
SUMMARY:INTRODUCTION TO MODERN CALLIGRAPHY
DESCRIPTION:Whether you’re a stationery nerd\, DIY Bride-to-be\, or just a crafty individual\, in this workshop you’ll be learning an introduction to modern calligraphy with a pointed dip pen and ink. We will cover all the basics and get you ready to add those special lettered details to your snail mail\, wedding paper goods\, home decor and more! The perfect crafty night out! \nhttps://sipandscript.com/event/modern-calligraphy-at-west-pecan-coffee-beer-2/ \nTickets available at the link above! The cost is $65 and the class includes 1.5 hours of instruction and demonstration\, our beginner’s calligraphy kit (two nibs\, black ink pot\, 2 letter guides\, tracing paper and straight pen holder)\, and all materials to write on. Everything is yours to keep at the end of the night!
URL:https://westpecancoffee.com/event/introduction-to-modern-calligraphy-2/
LOCATION:TX
ATTACH;FMTTYPE=image/png:https://westpecancoffee.com/wp-content/uploads/2022/01/caligo.png
END:VEVENT
BEGIN:VEVENT
DTSTART;TZID=UTC:20220305T100000
DTEND;TZID=UTC:20220305T130000
DTSTAMP:20260423T230043
CREATED:20220129T200717Z
LAST-MODIFIED:20220129T200717Z
UID:2608-1646474400-1646485200@westpecancoffee.com
SUMMARY:Pecan Street Collective
DESCRIPTION:The Pecan Street Collective is back! Join us Downtown Pflugerville at West Pecan\, Ruffles and Rust\, Ceramics N More and Wink Boutique as we host this local makers market. This is a great way to support the local downtown business! They are hosted outdoors on the first Saturday of every month form 10am to 1pm.
URL:https://westpecancoffee.com/event/pecan-street-collective-2/
LOCATION:TX
ATTACH;FMTTYPE=image/jpeg:https://westpecancoffee.com/wp-content/uploads/2022/01/PSC-Mar-2022_FB.jpg
END:VEVENT
BEGIN:VEVENT
DTSTART;TZID=UTC:20220224T183000
DTEND;TZID=UTC:20220224T200000
DTSTAMP:20260423T230043
CREATED:20220129T194815Z
LAST-MODIFIED:20220129T195647Z
UID:2597-1645727400-1645732800@westpecancoffee.com
SUMMARY:Introduction to Modern Calligraphy
DESCRIPTION:Whether you’re a stationery nerd\, DIY Bride-to-be\, or just a crafty individual\, in this workshop you’ll be learning an introduction to modern calligraphy with a pointed dip pen and ink. We will cover all the basics and get you ready to add those special lettered details to your snail mail\, wedding paper goods\, home decor and more! The perfect crafty night out! \nhttps://sipandscript.com/event/modern-calligraphy-at-west-pecan-coffee-beer/ \nTickets available at the link above! The cost is $65 and the class includes 1.5 hours of instruction and demonstration\, our beginner’s calligraphy kit (two nibs\, black ink pot\, 2 letter guides\, tracing paper and straight pen holder)\, and all materials to write on. Everything is yours to keep at the end of the night!
URL:https://westpecancoffee.com/event/introduction-to-modern-calligraphy/
LOCATION:TX
ATTACH;FMTTYPE=image/png:https://westpecancoffee.com/wp-content/uploads/2022/01/callig.png
END:VEVENT
BEGIN:VEVENT
DTSTART;TZID=UTC:20220206T100000
DTEND;TZID=UTC:20220206T130000
DTSTAMP:20260423T230045
CREATED:20210219T201432Z
LAST-MODIFIED:20220129T192834Z
UID:1968-1644141600-1644152400@westpecancoffee.com
SUMMARY:Pecan Street Collective
DESCRIPTION:The Pecan Street Collective is back! Join us Downtown Pflugerville at West Pecan\, Ruffles and Rust\, Ceramics N More and Wink Boutique as we host this local makers market. This is a great way to support the local downtown business! They are hosted outdoors on the first Saturday of every month form 10am to 1pm.
URL:https://westpecancoffee.com/event/pecan-street-collective/
LOCATION:TX
CATEGORIES:Pecan Street Collective
ATTACH;FMTTYPE=image/jpeg:https://westpecancoffee.com/wp-content/uploads/2021/02/PSC-Feb-2022_FB-1.jpg
END:VEVENT
BEGIN:VEVENT
DTSTART;TZID=UTC:20220204T190000
DTEND;TZID=UTC:20220204T210000
DTSTAMP:20260423T230045
CREATED:20220129T203947Z
LAST-MODIFIED:20220202T160739Z
UID:2612-1644001200-1644008400@westpecancoffee.com
SUMMARY:Parking Lot Trivia
DESCRIPTION:Join us every Friday from 7pm to 9pm for trivia hosted in our parking lot! Bring a lawn chair and your sharpest wits and compete in a series of round based trivia questions ranging from Fast answers\, State capitols\, and Ad slogans. West Pecan offers prizes for the top 3 teams including merchandise\, gift cards\, and coffee beans. \nEntry is free and we hope to see you soon!
URL:https://westpecancoffee.com/event/parking-lot-trivia/
LOCATION:TX
CATEGORIES:Trivia
ATTACH;FMTTYPE=image/jpeg:https://westpecancoffee.com/wp-content/uploads/2022/01/West-Pecan-Trivia-Topics-2-4-22.jpg
END:VEVENT
END:VCALENDAR