BEGIN:VCALENDAR
VERSION:2.0
PRODID:-//West Pecan Coffee + Beer - ECPv6.15.20//NONSGML v1.0//EN
CALSCALE:GREGORIAN
METHOD:PUBLISH
X-WR-CALNAME:West Pecan Coffee + Beer
X-ORIGINAL-URL:https://westpecancoffee.com
X-WR-CALDESC:Events for West Pecan Coffee + Beer
REFRESH-INTERVAL;VALUE=DURATION:PT1H
X-Robots-Tag:noindex
X-PUBLISHED-TTL:PT1H
BEGIN:VTIMEZONE
TZID:UTC
BEGIN:STANDARD
TZOFFSETFROM:+0000
TZOFFSETTO:+0000
TZNAME:UTC
DTSTART:20210101T000000
END:STANDARD
END:VTIMEZONE
BEGIN:VEVENT
DTSTART;TZID=UTC:20220204T190000
DTEND;TZID=UTC:20220204T210000
DTSTAMP:20260424T155219
CREATED:20220129T203947Z
LAST-MODIFIED:20220202T160739Z
UID:2612-1644001200-1644008400@westpecancoffee.com
SUMMARY:Parking Lot Trivia
DESCRIPTION:Join us every Friday from 7pm to 9pm for trivia hosted in our parking lot! Bring a lawn chair and your sharpest wits and compete in a series of round based trivia questions ranging from Fast answers\, State capitols\, and Ad slogans. West Pecan offers prizes for the top 3 teams including merchandise\, gift cards\, and coffee beans. \nEntry is free and we hope to see you soon!
URL:https://westpecancoffee.com/event/parking-lot-trivia/
LOCATION:TX
CATEGORIES:Trivia
ATTACH;FMTTYPE=image/jpeg:https://westpecancoffee.com/wp-content/uploads/2022/01/West-Pecan-Trivia-Topics-2-4-22.jpg
END:VEVENT
END:VCALENDAR