BEGIN:VCALENDAR
VERSION:2.0
PRODID:-//West Pecan Coffee + Beer - ECPv6.15.20//NONSGML v1.0//EN
CALSCALE:GREGORIAN
METHOD:PUBLISH
X-WR-CALNAME:West Pecan Coffee + Beer
X-ORIGINAL-URL:https://westpecancoffee.com
X-WR-CALDESC:Events for West Pecan Coffee + Beer
REFRESH-INTERVAL;VALUE=DURATION:PT1H
X-Robots-Tag:noindex
X-PUBLISHED-TTL:PT1H
BEGIN:VTIMEZONE
TZID:UTC
BEGIN:STANDARD
TZOFFSETFROM:+0000
TZOFFSETTO:+0000
TZNAME:UTC
DTSTART:20220101T000000
END:STANDARD
END:VTIMEZONE
BEGIN:VEVENT
DTSTART;TZID=UTC:20230603T100000
DTEND;TZID=UTC:20230603T150000
DTSTAMP:20260426T002554
CREATED:20230526T195019Z
LAST-MODIFIED:20230526T195142Z
UID:2903-1685786400-1685804400@westpecancoffee.com
SUMMARY:June Pecan Street Collective
DESCRIPTION:Local maker’s market in downtown Pflugerville!
URL:https://westpecancoffee.com/event/june-pecan-street-collective/
LOCATION:Pecan Street\, Pflugerville\, Texas\, Pecan Street\, Pflugerville\, Texas\, 78660
CATEGORIES:Pecan Street Collective
ATTACH;FMTTYPE=image/jpeg:https://westpecancoffee.com/wp-content/uploads/2023/05/June-IGgraphic-01-copy-1.jpg
ORGANIZER;CN="Pecan Street Collective":MAILTO:collective@westpecancoffee.com
END:VEVENT
BEGIN:VEVENT
DTSTART;TZID=UTC:20230610T151500
DTEND;TZID=UTC:20230610T173000
DTSTAMP:20260426T002554
CREATED:20230526T193407Z
LAST-MODIFIED:20230526T193730Z
UID:2899-1686410100-1686418200@westpecancoffee.com
SUMMARY:FREE Pflugerville Pride Poetry Reading
DESCRIPTION:Join Jim Parker\, local teacher\, and the rest of the community of Pflugerville as we host an open mic poetry reading\, free of charge! Whether you want to present your own work\, support a friend\, or just get a glimpse of a possibly new style of writing and art\, we encourage you to join us! There is no admission or cover charge. Expect a full house and bring your friends!
URL:https://westpecancoffee.com/event/pflugerville-pride-poetry-reading/
LOCATION:West Pecan Coffee and Beer\, 100 W. Pecan Street\, Pflugerville\, TX\, 78660\, United States
CATEGORIES:Open Mic Poetry Reading
END:VEVENT
BEGIN:VEVENT
DTSTART;TZID=UTC:20230617T133000
DTEND;TZID=UTC:20230617T150000
DTSTAMP:20260426T002554
CREATED:20230420T042055Z
LAST-MODIFIED:20230420T042228Z
UID:2890-1687008600-1687014000@westpecancoffee.com
SUMMARY:FREE Poetry Reading/Open Mic
DESCRIPTION:Join Jim Parker\, local teacher\, and the rest of the community of Pflugerville as we host an open mic poetry reading\, free of charge! Whether you want to present your own work\, support a friend\, or just get a glimpse of a possibly new style of writing and art\, we encourage you to join us! There is no admission or cover charge. Expect a full house and bring your friends!
URL:https://westpecancoffee.com/event/free-poetry-reading-open-mic-8/
LOCATION:West Pecan Coffee and Beer\, 100 W. Pecan Street\, Pflugerville\, TX\, 78660\, United States
CATEGORIES:Open Mic Poetry Reading
ATTACH;FMTTYPE=image/jpeg:https://westpecancoffee.com/wp-content/uploads/2022/09/istockphoto-891429234-612x612-1.jpeg
END:VEVENT
END:VCALENDAR