BEGIN:VCALENDAR
VERSION:2.0
PRODID:-//West Pecan Coffee + Beer - ECPv6.15.20//NONSGML v1.0//EN
CALSCALE:GREGORIAN
METHOD:PUBLISH
X-WR-CALNAME:West Pecan Coffee + Beer
X-ORIGINAL-URL:https://westpecancoffee.com
X-WR-CALDESC:Events for West Pecan Coffee + Beer
REFRESH-INTERVAL;VALUE=DURATION:PT1H
X-Robots-Tag:noindex
X-PUBLISHED-TTL:PT1H
BEGIN:VTIMEZONE
TZID:UTC
BEGIN:STANDARD
TZOFFSETFROM:+0000
TZOFFSETTO:+0000
TZNAME:UTC
DTSTART:20220101T000000
END:STANDARD
END:VTIMEZONE
BEGIN:VEVENT
DTSTART;TZID=UTC:20230902T100000
DTEND;TZID=UTC:20230904T150000
DTSTAMP:20260425T180216
CREATED:20230831T023536Z
LAST-MODIFIED:20230831T031124Z
UID:2942-1693648800-1693839600@westpecancoffee.com
SUMMARY:September Pecan Street Collective
DESCRIPTION:Come shop the Pecan Street Collective on August 5th! The market is held the first Saturday of each month from 10:00 A.M. – 3:00 P.M. and features over 30 local makers backed by live music. We’ve also doubled our vendor booths to include host site Stylin’ Salon along with West Pecan\, Ruffles and Rust\, Ceramics N More\, Pecan St. Market\, and Three Legged Goat. See you there!
URL:https://westpecancoffee.com/event/september-pecan-street-collection/
LOCATION:Pecan Street\, Pflugerville\, Texas\, Pecan Street\, Pflugerville\, Texas\, 78660
CATEGORIES:Pecan Street Collective
ATTACH;FMTTYPE=image/jpeg:https://westpecancoffee.com/wp-content/uploads/2023/08/September-IGgraphic-scaled.jpg
ORGANIZER;CN="Pecan Street Collective":MAILTO:collective@westpecancoffee.com
END:VEVENT
BEGIN:VEVENT
DTSTART;TZID=UTC:20230909T070000
DTEND;TZID=UTC:20230909T150000
DTSTAMP:20260425T180216
CREATED:20230807T231730Z
LAST-MODIFIED:20230807T231730Z
UID:2924-1694242800-1694271600@westpecancoffee.com
SUMMARY:Bulldogs\, Bagels and Coffee
DESCRIPTION:ATTN: Attendees will be need to bring a new or gently used pet essential donations to enjoy the discounted drinks on the day of the event.\n\nJoin #TheDogBFFSocialClub and guests for a #furrific morning meet up. The meet up will take place on the patio section at West Pecan Coffee & Beer.\n\nWhat better way to get to know all of the other DOG LOVERS & PET OWNERS in the community\, than over a lite\, healthy breakfast and/or a freshly brewed beverage from West Pecan Coffee.\n\nWe are ecstatic to host our next morning mixer at West Pecan Coffee. We will be debuting 2 brand new beverages. One is a Tea and the other is a Mocha! A portion of the proceeds from these 2 signature drinks will be donated to the #OperationAllPaws non-profit organization.\n\nBoth of the signature drinks were created with plenty of TLC- tender\, love\, and care\, and named after some of our furry friends Charlie & Marlow.\n\n@TheDogBFF_Barkerie will be providing freshly baked doggy treats for the fur babies attending the mixer\, while supplies lasts.\n@OperationAllPaws will be present\, collecting brand new pet donations from the community. They will be accepting:\n\nBRAND NEW or BARELY USED:\nPet beds\nShampoos & conditioners\nBlankets & sheets\nPet collars\, leashes & harnesses\nUp to date pet canned goods\n*Pet pillows are recommended this year*\nUnopened supplements\nPet apparel\nWire crates & kennels\nEtc\n\nTHIS IS AN ALL DOG BREED EVENT & EVERYONE IS WELCOME TO DONATE
URL:https://westpecancoffee.com/event/bulldogs-bagels-and-coffee/
LOCATION:Texas
ATTACH;FMTTYPE=image/jpeg:https://westpecancoffee.com/wp-content/uploads/2023/08/Bulldogs-Bagels-and-Coffee.jpg
END:VEVENT
BEGIN:VEVENT
DTSTART;TZID=UTC:20230916T133000
DTEND;TZID=UTC:20230916T150000
DTSTAMP:20260425T180216
CREATED:20230420T042725Z
LAST-MODIFIED:20230831T031725Z
UID:2896-1694871000-1694876400@westpecancoffee.com
SUMMARY:FREE Poetry Reading/Open Mic
DESCRIPTION:Join Jim Parker\, local teacher\, and the rest of the community of Pflugerville as we host an open mic poetry reading\, free of charge! Whether you want to present your own work\, support a friend\, or just get a glimpse of a possibly new style of writing and art\, we encourage you to join us! There is no admission or cover charge. Expect a full house and bring your friends!
URL:https://westpecancoffee.com/event/free-poetry-reading-open-mic-11/
LOCATION:West Pecan Coffee and Beer\, 100 W. Pecan Street\, Pflugerville\, TX\, 78660\, United States
CATEGORIES:Open Mic Poetry Reading
ATTACH;FMTTYPE=image/png:https://westpecancoffee.com/wp-content/uploads/2023/06/Poetry.png
END:VEVENT
END:VCALENDAR