BEGIN:VCALENDAR
VERSION:2.0
PRODID:-//West Pecan Coffee + Beer - ECPv6.15.20//NONSGML v1.0//EN
CALSCALE:GREGORIAN
METHOD:PUBLISH
X-WR-CALNAME:West Pecan Coffee + Beer
X-ORIGINAL-URL:https://westpecancoffee.com
X-WR-CALDESC:Events for West Pecan Coffee + Beer
REFRESH-INTERVAL;VALUE=DURATION:PT1H
X-Robots-Tag:noindex
X-PUBLISHED-TTL:PT1H
BEGIN:VTIMEZONE
TZID:UTC
BEGIN:STANDARD
TZOFFSETFROM:+0000
TZOFFSETTO:+0000
TZNAME:UTC
DTSTART:20240101T000000
END:STANDARD
END:VTIMEZONE
BEGIN:VEVENT
DTSTART;TZID=UTC:20250503T100000
DTEND;TZID=UTC:20250503T150000
DTSTAMP:20260424T101436
CREATED:20250201T004239Z
LAST-MODIFIED:20250201T004239Z
UID:3125-1746266400-1746284400@westpecancoffee.com
SUMMARY:May 3rd Pecan Street Collective
DESCRIPTION:Come shop the Pecan Street Collective on May 3rd! The market is held the first Saturday of each month from 10:00 A.M. – 3:00 P.M. and features over 30 local makers backed by live music. We’ve also doubled our vendor booths to include host site The Merc along with West Pecan\, Ruffles and Rust\, Ceramics N More\, Pecan St. Market\, and Three Legged Goat. See you there!
URL:https://westpecancoffee.com/event/may-3rd-pecan-street-collective/
LOCATION:Pecan Street\, Pflugerville\, Texas\, Pecan Street\, Pflugerville\, Texas\, 78660
CATEGORIES:Pecan Street Collective
ATTACH;FMTTYPE=image/jpeg:https://westpecancoffee.com/wp-content/uploads/2025/02/WhatsApp-Image-2025-01-10-at-12.50.34-PM-1.jpeg
ORGANIZER;CN="Pecan Street Collective":MAILTO:collective@westpecancoffee.com
END:VEVENT
BEGIN:VEVENT
DTSTART;TZID=UTC:20250517T133000
DTEND;TZID=UTC:20250517T153000
DTSTAMP:20260424T101436
CREATED:20250201T005130Z
LAST-MODIFIED:20250201T005130Z
UID:3133-1747488600-1747495800@westpecancoffee.com
SUMMARY:FREE Open Mic/Poetry Reading
DESCRIPTION:Join Jim Parker\, local teacher\, and the rest of the community of Pflugerville as we host an open mic poetry reading\, free of charge! Whether you want to present your own work\, support a friend\, or just get a glimpse of a possibly new style of writing and art\, we encourage you to join us! There is no admission or cover charge. Expect a full house and bring your friends!
URL:https://westpecancoffee.com/event/free-open-mic-poetry-reading-8/
LOCATION:West Pecan Coffee and Beer\, 100 W. Pecan Street\, Pflugerville\, TX\, 78660\, United States
CATEGORIES:Open Mic Poetry Reading
ATTACH;FMTTYPE=image/png:https://westpecancoffee.com/wp-content/uploads/2023/06/Poetry.png
END:VEVENT
BEGIN:VEVENT
DTSTART;TZID=UTC:20250531T133000
DTEND;TZID=UTC:20250531T153000
DTSTAMP:20260424T101436
CREATED:20250531T045302Z
LAST-MODIFIED:20250531T142408Z
UID:3158-1748698200-1748705400@westpecancoffee.com
SUMMARY:Live Music with Jim Ragland
DESCRIPTION:Come hang out with us and enjoy live music by local musician\, Jim Ragland!
URL:https://westpecancoffee.com/event/live-music-with-jim-ragland/
LOCATION:West Pecan Coffee and Beer\, 100 W. Pecan Street\, Pflugerville\, TX\, 78660\, United States
CATEGORIES:Live Music
END:VEVENT
END:VCALENDAR